Package: contiBAIT Version: 1.28.0 Command: chmod a+r contiBAIT -R && F:\biocbuild\bbs-3.17-bioc\R\bin\R.exe CMD build --keep-empty-dirs --no-resave-data contiBAIT StartedAt: 2023-10-15 18:21:33 -0400 (Sun, 15 Oct 2023) EndedAt: 2023-10-15 18:23:26 -0400 (Sun, 15 Oct 2023) EllapsedTime: 112.9 seconds RetCode: 0 Status: OK PackageFile: contiBAIT_1.28.0.tar.gz PackageFileSize: 3.729 MiB