Package: contiBAIT Version: 1.28.0 Command: rm -rf contiBAIT.buildbin-libdir && mkdir contiBAIT.buildbin-libdir && F:\biocbuild\bbs-3.17-bioc\R\bin\R.exe CMD INSTALL --build --library=contiBAIT.buildbin-libdir contiBAIT_1.28.0.tar.gz StartedAt: 2023-10-16 08:37:51 -0400 (Mon, 16 Oct 2023) EndedAt: 2023-10-16 08:39:18 -0400 (Mon, 16 Oct 2023) EllapsedTime: 87.0 seconds RetCode: 0 Status: OK PackageFile: contiBAIT_1.28.0.zip PackageFileSize: 4.663 MiB