Package: contiBAIT Version: 1.28.0 Command: /home/biocbuild/bbs-3.17-bioc/R/bin/R CMD check --install=check:contiBAIT.install-out.txt --library=/home/biocbuild/bbs-3.17-bioc/R/site-library --timings contiBAIT_1.28.0.tar.gz StartedAt: 2023-10-15 20:20:55 -0400 (Sun, 15 Oct 2023) EndedAt: 2023-10-15 20:27:23 -0400 (Sun, 15 Oct 2023) EllapsedTime: 388.6 seconds RetCode: 0 Status: WARNINGS CheckDir: contiBAIT.Rcheck Warnings: 1