Package: contiBAIT Version: 1.28.0 Command: /home/biocbuild/bbs-3.17-bioc/R/bin/R CMD build --keep-empty-dirs --no-resave-data contiBAIT StartedAt: 2023-10-15 16:25:22 -0400 (Sun, 15 Oct 2023) EndedAt: 2023-10-15 16:26:53 -0400 (Sun, 15 Oct 2023) EllapsedTime: 91.2 seconds RetCode: 0 Status: OK PackageFile: contiBAIT_1.28.0.tar.gz PackageFileSize: 3.728 MiB