Package: contiBAIT Version: 1.28.0 Command: /Library/Frameworks/R.framework/Resources/bin/R CMD INSTALL contiBAIT StartedAt: 2023-10-15 15:42:08 -0400 (Sun, 15 Oct 2023) EndedAt: 2023-10-15 15:45:39 -0400 (Sun, 15 Oct 2023) EllapsedTime: 210.6 seconds RetCode: 0 Status: OK