Package: contiBAIT Version: 1.28.0 Command: /Library/Frameworks/R.framework/Resources/bin/R CMD build --keep-empty-dirs --no-resave-data contiBAIT StartedAt: 2023-10-15 17:37:04 -0400 (Sun, 15 Oct 2023) EndedAt: 2023-10-15 17:40:45 -0400 (Sun, 15 Oct 2023) EllapsedTime: 221.8 seconds RetCode: 0 Status: OK PackageFile: contiBAIT_1.28.0.tar.gz PackageFileSize: 3.859 MiB