Package: consensusSeekeR Version: 1.28.0 Command: F:\biocbuild\bbs-3.17-bioc\R\bin\R.exe CMD check --no-multiarch --install=check:consensusSeekeR.install-out.txt --library=F:\biocbuild\bbs-3.17-bioc\R\library --no-vignettes --timings consensusSeekeR_1.28.0.tar.gz StartedAt: 2023-10-16 00:56:20 -0400 (Mon, 16 Oct 2023) EndedAt: 2023-10-16 01:00:11 -0400 (Mon, 16 Oct 2023) EllapsedTime: 230.3 seconds RetCode: 0 Status: OK CheckDir: consensusSeekeR.Rcheck Warnings: 0