Package: consensusSeekeR Version: 1.28.0 Command: /Library/Frameworks/R.framework/Resources/bin/R CMD INSTALL consensusSeekeR StartedAt: 2023-10-15 15:31:24 -0400 (Sun, 15 Oct 2023) EndedAt: 2023-10-15 15:32:50 -0400 (Sun, 15 Oct 2023) EllapsedTime: 86.3 seconds RetCode: 0 Status: OK