Package: consensusSeekeR Version: 1.28.0 Command: /Library/Frameworks/R.framework/Resources/bin/R CMD check --install=check:consensusSeekeR.install-out.txt --library=/Library/Frameworks/R.framework/Resources/library --no-vignettes --timings consensusSeekeR_1.28.0.tar.gz StartedAt: 2023-10-16 00:11:11 -0400 (Mon, 16 Oct 2023) EndedAt: 2023-10-16 00:20:32 -0400 (Mon, 16 Oct 2023) EllapsedTime: 561.3 seconds RetCode: 0 Status: OK CheckDir: consensusSeekeR.Rcheck Warnings: 0