Package: consensusDE Version: 1.18.0 Command: /home/biocbuild/bbs-3.17-bioc/R/bin/R CMD check --install=check:consensusDE.install-out.txt --library=/home/biocbuild/bbs-3.17-bioc/R/site-library --timings consensusDE_1.18.0.tar.gz StartedAt: 2023-10-15 20:20:03 -0400 (Sun, 15 Oct 2023) EndedAt: 2023-10-15 20:25:49 -0400 (Sun, 15 Oct 2023) EllapsedTime: 345.6 seconds RetCode: 0 Status: OK CheckDir: consensusDE.Rcheck Warnings: 0