Package: consensusDE Version: 1.18.0 Command: /Library/Frameworks/R.framework/Resources/bin/R CMD build --keep-empty-dirs --no-resave-data consensusDE StartedAt: 2023-10-15 17:36:46 -0400 (Sun, 15 Oct 2023) EndedAt: 2023-10-15 17:40:07 -0400 (Sun, 15 Oct 2023) EllapsedTime: 200.5 seconds RetCode: 0 Status: OK PackageFile: consensusDE_1.18.0.tar.gz PackageFileSize: 812.9 KiB