Package: consensus Version: 1.18.0 Command: F:\biocbuild\bbs-3.17-bioc\R\bin\R.exe CMD check --no-multiarch --install=check:consensus.install-out.txt --library=F:\biocbuild\bbs-3.17-bioc\R\library --no-vignettes --timings consensus_1.18.0.tar.gz StartedAt: 2023-10-16 00:55:28 -0400 (Mon, 16 Oct 2023) EndedAt: 2023-10-16 00:55:57 -0400 (Mon, 16 Oct 2023) EllapsedTime: 28.8 seconds RetCode: 0 Status: OK CheckDir: consensus.Rcheck Warnings: 0