Package: consensus Version: 1.18.0 Command: chmod a+r consensus -R && F:\biocbuild\bbs-3.17-bioc\R\bin\R.exe CMD build --keep-empty-dirs --no-resave-data consensus StartedAt: 2023-10-15 18:20:45 -0400 (Sun, 15 Oct 2023) EndedAt: 2023-10-15 18:20:56 -0400 (Sun, 15 Oct 2023) EllapsedTime: 11.1 seconds RetCode: 0 Status: OK PackageFile: consensus_1.18.0.tar.gz PackageFileSize: 971.9 KiB