Package: consensus Version: 1.18.0 Command: /Library/Frameworks/R.framework/Resources/bin/R CMD INSTALL consensus StartedAt: 2023-10-15 15:08:10 -0400 (Sun, 15 Oct 2023) EndedAt: 2023-10-15 15:08:35 -0400 (Sun, 15 Oct 2023) EllapsedTime: 24.8 seconds RetCode: 0 Status: OK