Package: consensus Version: 1.18.0 Command: /Library/Frameworks/R.framework/Resources/bin/R CMD build --keep-empty-dirs --no-resave-data consensus StartedAt: 2023-10-15 17:36:23 -0400 (Sun, 15 Oct 2023) EndedAt: 2023-10-15 17:36:41 -0400 (Sun, 15 Oct 2023) EllapsedTime: 17.6 seconds RetCode: 0 Status: OK PackageFile: consensus_1.18.0.tar.gz PackageFileSize: 970.8 KiB