Package: consICA Version: 1.2.0 Command: chmod a+r consICA -R && F:\biocbuild\bbs-3.17-bioc\R\bin\R.exe CMD build --keep-empty-dirs --no-resave-data consICA StartedAt: 2023-10-15 18:21:16 -0400 (Sun, 15 Oct 2023) EndedAt: 2023-10-15 18:22:47 -0400 (Sun, 15 Oct 2023) EllapsedTime: 91.0 seconds RetCode: 0 Status: OK PackageFile: consICA_1.2.0.tar.gz PackageFileSize: 3.127 MiB