Package: consICA Version: 1.2.0 Command: /home/biocbuild/bbs-3.17-bioc/R/bin/R CMD check --install=check:consICA.install-out.txt --library=/home/biocbuild/bbs-3.17-bioc/R/site-library --timings consICA_1.2.0.tar.gz StartedAt: 2023-10-15 20:20:46 -0400 (Sun, 15 Oct 2023) EndedAt: 2023-10-15 20:30:12 -0400 (Sun, 15 Oct 2023) EllapsedTime: 566.2 seconds RetCode: 0 Status: OK CheckDir: consICA.Rcheck Warnings: 0