Package: consICA Version: 1.2.0 Command: rm -rf consICA.buildbin-libdir && mkdir consICA.buildbin-libdir && /Users/biocbuild/BBS/utils/build-universal.sh consICA_1.2.0.tar.gz /Library/Frameworks/R.framework/Resources/bin/R consICA.buildbin-libdir StartedAt: 2023-10-16 09:11:58 -0400 (Mon, 16 Oct 2023) EndedAt: 2023-10-16 09:13:28 -0400 (Mon, 16 Oct 2023) EllapsedTime: 90.1 seconds RetCode: 0 Status: OK PackageFile: consICA_1.2.0.tgz PackageFileSize: 2.803 MiB