Package: concordexR Version: 1.0.0 Command: F:\biocbuild\bbs-3.17-bioc\R\bin\R.exe CMD INSTALL concordexR StartedAt: 2023-10-15 16:10:05 -0400 (Sun, 15 Oct 2023) EndedAt: 2023-10-15 16:10:22 -0400 (Sun, 15 Oct 2023) EllapsedTime: 16.8 seconds RetCode: 0 Status: OK