Package: concordexR Version: 1.0.0 Command: chmod a+r concordexR -R && F:\biocbuild\bbs-3.17-bioc\R\bin\R.exe CMD build --keep-empty-dirs --no-resave-data concordexR StartedAt: 2023-10-15 18:20:03 -0400 (Sun, 15 Oct 2023) EndedAt: 2023-10-15 18:21:34 -0400 (Sun, 15 Oct 2023) EllapsedTime: 91.5 seconds RetCode: 0 Status: OK PackageFile: concordexR_1.0.0.tar.gz PackageFileSize: 1.085 MiB