Package: concordexR Version: 1.0.0 Command: rm -rf concordexR.buildbin-libdir && mkdir concordexR.buildbin-libdir && F:\biocbuild\bbs-3.17-bioc\R\bin\R.exe CMD INSTALL --build --library=concordexR.buildbin-libdir concordexR_1.0.0.tar.gz StartedAt: 2023-10-16 08:37:31 -0400 (Mon, 16 Oct 2023) EndedAt: 2023-10-16 08:37:52 -0400 (Mon, 16 Oct 2023) EllapsedTime: 21.3 seconds RetCode: 0 Status: OK PackageFile: concordexR_1.0.0.zip PackageFileSize: 1.1 MiB