Package: concordexR Version: 1.0.0 Command: /home/biocbuild/bbs-3.17-bioc/R/bin/R CMD check --install=check:concordexR.install-out.txt --library=/home/biocbuild/bbs-3.17-bioc/R/site-library --timings concordexR_1.0.0.tar.gz StartedAt: 2023-10-15 20:18:59 -0400 (Sun, 15 Oct 2023) EndedAt: 2023-10-15 20:21:40 -0400 (Sun, 15 Oct 2023) EllapsedTime: 160.9 seconds RetCode: 0 Status: OK CheckDir: concordexR.Rcheck Warnings: 0