Package: concordexR Version: 1.0.0 Command: /home/biocbuild/bbs-3.17-bioc/R/bin/R CMD build --keep-empty-dirs --no-resave-data concordexR StartedAt: 2023-10-15 16:24:17 -0400 (Sun, 15 Oct 2023) EndedAt: 2023-10-15 16:25:23 -0400 (Sun, 15 Oct 2023) EllapsedTime: 66.1 seconds RetCode: 0 Status: OK PackageFile: concordexR_1.0.0.tar.gz PackageFileSize: 1.541 MiB