Package: compcodeR Version: 1.36.2 Command: F:\biocbuild\bbs-3.17-bioc\R\bin\R.exe CMD INSTALL compcodeR StartedAt: 2023-10-15 16:15:37 -0400 (Sun, 15 Oct 2023) EndedAt: 2023-10-15 16:16:00 -0400 (Sun, 15 Oct 2023) EllapsedTime: 23.4 seconds RetCode: 0 Status: OK