Package: compcodeR Version: 1.36.2 Command: chmod a+r compcodeR -R && F:\biocbuild\bbs-3.17-bioc\R\bin\R.exe CMD build --keep-empty-dirs --no-resave-data compcodeR StartedAt: 2023-10-15 18:19:20 -0400 (Sun, 15 Oct 2023) EndedAt: 2023-10-15 18:19:54 -0400 (Sun, 15 Oct 2023) EllapsedTime: 33.9 seconds RetCode: 0 Status: OK PackageFile: compcodeR_1.36.2.tar.gz PackageFileSize: 4.684 MiB