Package: compcodeR Version: 1.36.2 Command: rm -rf compcodeR.buildbin-libdir && mkdir compcodeR.buildbin-libdir && F:\biocbuild\bbs-3.17-bioc\R\bin\R.exe CMD INSTALL --build --library=compcodeR.buildbin-libdir compcodeR_1.36.2.tar.gz StartedAt: 2023-10-16 08:37:17 -0400 (Mon, 16 Oct 2023) EndedAt: 2023-10-16 08:37:45 -0400 (Mon, 16 Oct 2023) EllapsedTime: 27.7 seconds RetCode: 0 Status: OK PackageFile: compcodeR_1.36.2.zip PackageFileSize: 2.631 MiB