Package: compcodeR Version: 1.36.2 Command: /home/biocbuild/bbs-3.17-bioc/R/bin/R CMD build --keep-empty-dirs --no-resave-data compcodeR StartedAt: 2023-10-15 16:23:53 -0400 (Sun, 15 Oct 2023) EndedAt: 2023-10-15 16:24:13 -0400 (Sun, 15 Oct 2023) EllapsedTime: 19.6 seconds RetCode: 0 Status: OK PackageFile: compcodeR_1.36.2.tar.gz PackageFileSize: 4.728 MiB