Package: compcodeR Version: 1.36.2 Command: /Library/Frameworks/R.framework/Resources/bin/R CMD build --keep-empty-dirs --no-resave-data compcodeR StartedAt: 2023-10-15 17:34:53 -0400 (Sun, 15 Oct 2023) EndedAt: 2023-10-15 17:35:52 -0400 (Sun, 15 Oct 2023) EllapsedTime: 58.8 seconds RetCode: 0 Status: OK PackageFile: compcodeR_1.36.2.tar.gz PackageFileSize: 4.731 MiB