Package: compcodeR Version: 1.36.2 Command: rm -rf compcodeR.buildbin-libdir && mkdir compcodeR.buildbin-libdir && /Users/biocbuild/BBS/utils/build-universal.sh compcodeR_1.36.2.tar.gz /Library/Frameworks/R.framework/Resources/bin/R compcodeR.buildbin-libdir StartedAt: 2023-10-16 09:11:24 -0400 (Mon, 16 Oct 2023) EndedAt: 2023-10-16 09:12:13 -0400 (Mon, 16 Oct 2023) EllapsedTime: 48.8 seconds RetCode: 0 Status: OK PackageFile: compcodeR_1.36.2.tgz PackageFileSize: 2.669 MiB