Package: compEpiTools Version: 1.34.1 Command: /Library/Frameworks/R.framework/Resources/bin/R CMD build --keep-empty-dirs --no-resave-data compEpiTools StartedAt: 2023-10-15 17:35:12 -0400 (Sun, 15 Oct 2023) EndedAt: 2023-10-15 17:38:43 -0400 (Sun, 15 Oct 2023) EllapsedTime: 211.1 seconds RetCode: 0 Status: OK PackageFile: compEpiTools_1.34.1.tar.gz PackageFileSize: 2.162 MiB