Package: combi Version: 1.12.1 Command: F:\biocbuild\bbs-3.17-bioc\R\bin\R.exe CMD INSTALL combi StartedAt: 2023-10-15 16:45:04 -0400 (Sun, 15 Oct 2023) EndedAt: 2023-10-15 16:45:45 -0400 (Sun, 15 Oct 2023) EllapsedTime: 41.2 seconds RetCode: 0 Status: OK