Package: combi Version: 1.12.1 Command: chmod a+r combi -R && F:\biocbuild\bbs-3.17-bioc\R\bin\R.exe CMD build --keep-empty-dirs --no-resave-data combi StartedAt: 2023-10-15 18:18:27 -0400 (Sun, 15 Oct 2023) EndedAt: 2023-10-15 18:20:44 -0400 (Sun, 15 Oct 2023) EllapsedTime: 136.7 seconds RetCode: 0 Status: OK PackageFile: combi_1.12.1.tar.gz PackageFileSize: 1.174 MiB