Package: combi Version: 1.12.1 Command: rm -rf combi.buildbin-libdir && mkdir combi.buildbin-libdir && F:\biocbuild\bbs-3.17-bioc\R\bin\R.exe CMD INSTALL --build --library=combi.buildbin-libdir combi_1.12.1.tar.gz StartedAt: 2023-10-16 08:37:04 -0400 (Mon, 16 Oct 2023) EndedAt: 2023-10-16 08:37:48 -0400 (Mon, 16 Oct 2023) EllapsedTime: 44.2 seconds RetCode: 0 Status: OK PackageFile: combi_1.12.1.zip PackageFileSize: 1.385 MiB