Package: combi Version: 1.12.1 Command: /home/biocbuild/bbs-3.17-bioc/R/bin/R CMD INSTALL combi StartedAt: 2023-10-15 15:38:46 -0400 (Sun, 15 Oct 2023) EndedAt: 2023-10-15 15:39:17 -0400 (Sun, 15 Oct 2023) EllapsedTime: 31.9 seconds RetCode: 0 Status: OK