Package: combi Version: 1.12.1 Command: /home/biocbuild/bbs-3.17-bioc/R/bin/R CMD build --keep-empty-dirs --no-resave-data combi StartedAt: 2023-10-15 16:23:29 -0400 (Sun, 15 Oct 2023) EndedAt: 2023-10-15 16:25:19 -0400 (Sun, 15 Oct 2023) EllapsedTime: 110.6 seconds RetCode: 0 Status: OK PackageFile: combi_1.12.1.tar.gz PackageFileSize: 1.371 MiB