Package: combi Version: 1.12.1 Command: /Library/Frameworks/R.framework/Resources/bin/R CMD INSTALL combi StartedAt: 2023-10-15 16:09:46 -0400 (Sun, 15 Oct 2023) EndedAt: 2023-10-15 16:11:26 -0400 (Sun, 15 Oct 2023) EllapsedTime: 100.2 seconds RetCode: 0 Status: OK