Package: combi Version: 1.12.1 Command: /Library/Frameworks/R.framework/Resources/bin/R CMD check --install=check:combi.install-out.txt --library=/Library/Frameworks/R.framework/Resources/library --no-vignettes --timings combi_1.12.1.tar.gz StartedAt: 2023-10-16 00:05:04 -0400 (Mon, 16 Oct 2023) EndedAt: 2023-10-16 00:22:49 -0400 (Mon, 16 Oct 2023) EllapsedTime: 1064.4 seconds RetCode: 0 Status: OK CheckDir: combi.Rcheck Warnings: 0