Package: combi Version: 1.12.1 Command: /Library/Frameworks/R.framework/Resources/bin/R CMD build --keep-empty-dirs --no-resave-data combi StartedAt: 2023-10-15 17:34:00 -0400 (Sun, 15 Oct 2023) EndedAt: 2023-10-15 17:40:00 -0400 (Sun, 15 Oct 2023) EllapsedTime: 360.7 seconds RetCode: 0 Status: OK PackageFile: combi_1.12.1.tar.gz PackageFileSize: 1.391 MiB