Package: combi Version: 1.12.1 Command: rm -rf combi.buildbin-libdir && mkdir combi.buildbin-libdir && /Users/biocbuild/BBS/utils/build-universal.sh combi_1.12.1.tar.gz /Library/Frameworks/R.framework/Resources/bin/R combi.buildbin-libdir StartedAt: 2023-10-16 09:11:19 -0400 (Mon, 16 Oct 2023) EndedAt: 2023-10-16 09:13:00 -0400 (Mon, 16 Oct 2023) EllapsedTime: 100.8 seconds RetCode: 0 Status: OK PackageFile: combi_1.12.1.tgz PackageFileSize: 1.594 MiB