Package: comapr Version: 1.4.0 Command: F:\biocbuild\bbs-3.17-bioc\R\bin\R.exe CMD check --no-multiarch --install=check:comapr.install-out.txt --library=F:\biocbuild\bbs-3.17-bioc\R\library --no-vignettes --timings comapr_1.4.0.tar.gz StartedAt: 2023-10-16 00:51:25 -0400 (Mon, 16 Oct 2023) EndedAt: 2023-10-16 00:59:27 -0400 (Mon, 16 Oct 2023) EllapsedTime: 482.1 seconds RetCode: 1 Status: ERROR CheckDir: comapr.Rcheck Warnings: NA