Package: comapr Version: 1.4.0 Command: /home/biocbuild/bbs-3.17-bioc/R/bin/R CMD build --keep-empty-dirs --no-resave-data comapr StartedAt: 2023-10-15 16:23:27 -0400 (Sun, 15 Oct 2023) EndedAt: 2023-10-15 16:24:48 -0400 (Sun, 15 Oct 2023) EllapsedTime: 80.3 seconds RetCode: 0 Status: OK PackageFile: comapr_1.4.0.tar.gz PackageFileSize: 903.2 KiB