Package: comapr Version: 1.4.0 Command: /Library/Frameworks/R.framework/Resources/bin/R CMD INSTALL comapr StartedAt: 2023-10-15 15:53:20 -0400 (Sun, 15 Oct 2023) EndedAt: 2023-10-15 15:55:53 -0400 (Sun, 15 Oct 2023) EllapsedTime: 153.8 seconds RetCode: 0 Status: OK