Package: cola Version: 2.6.0 Command: F:\biocbuild\bbs-3.17-bioc\R\bin\R.exe CMD check --no-multiarch --install=check:cola.install-out.txt --library=F:\biocbuild\bbs-3.17-bioc\R\library --no-vignettes --timings cola_2.6.0.tar.gz StartedAt: 2023-10-16 00:51:10 -0400 (Mon, 16 Oct 2023) EndedAt: 2023-10-16 00:55:26 -0400 (Mon, 16 Oct 2023) EllapsedTime: 256.6 seconds RetCode: 0 Status: OK CheckDir: cola.Rcheck Warnings: 0