Package: cola Version: 2.6.0 Command: /home/biocbuild/bbs-3.17-bioc/R/bin/R CMD build --keep-empty-dirs --no-resave-data cola StartedAt: 2023-10-15 16:23:20 -0400 (Sun, 15 Oct 2023) EndedAt: 2023-10-15 16:23:57 -0400 (Sun, 15 Oct 2023) EllapsedTime: 37.2 seconds RetCode: 0 Status: OK PackageFile: cola_2.6.0.tar.gz PackageFileSize: 3.658 MiB