Package: cola Version: 2.6.0 Command: /Library/Frameworks/R.framework/Resources/bin/R CMD INSTALL cola StartedAt: 2023-10-15 15:30:41 -0400 (Sun, 15 Oct 2023) EndedAt: 2023-10-15 15:32:49 -0400 (Sun, 15 Oct 2023) EllapsedTime: 128.4 seconds RetCode: 0 Status: OK