Package: cogena Version: 1.34.0 Command: /home/biocbuild/bbs-3.17-bioc/R/bin/R CMD check --install=check:cogena.install-out.txt --library=/home/biocbuild/bbs-3.17-bioc/R/site-library --timings cogena_1.34.0.tar.gz StartedAt: 2023-10-15 20:15:07 -0400 (Sun, 15 Oct 2023) EndedAt: 2023-10-15 20:20:55 -0400 (Sun, 15 Oct 2023) EllapsedTime: 347.5 seconds RetCode: 0 Status: WARNINGS CheckDir: cogena.Rcheck Warnings: 1