Package: codelink Version: 1.68.0 Command: F:\biocbuild\bbs-3.17-bioc\R\bin\R.exe CMD check --no-multiarch --install=check:codelink.install-out.txt --library=F:\biocbuild\bbs-3.17-bioc\R\library --no-vignettes --timings codelink_1.68.0.tar.gz StartedAt: 2023-10-16 00:48:48 -0400 (Mon, 16 Oct 2023) EndedAt: 2023-10-16 00:50:50 -0400 (Mon, 16 Oct 2023) EllapsedTime: 121.8 seconds RetCode: 0 Status: OK CheckDir: codelink.Rcheck Warnings: 0