Package: codelink Version: 1.68.0 Command: chmod a+r codelink -R && F:\biocbuild\bbs-3.17-bioc\R\bin\R.exe CMD build --keep-empty-dirs --no-resave-data codelink StartedAt: 2023-10-15 18:15:21 -0400 (Sun, 15 Oct 2023) EndedAt: 2023-10-15 18:16:02 -0400 (Sun, 15 Oct 2023) EllapsedTime: 41.0 seconds RetCode: 0 Status: OK PackageFile: codelink_1.68.0.tar.gz PackageFileSize: 3.181 MiB