Package: codelink Version: 1.68.0 Command: rm -rf codelink.buildbin-libdir && mkdir codelink.buildbin-libdir && F:\biocbuild\bbs-3.17-bioc\R\bin\R.exe CMD INSTALL --build --library=codelink.buildbin-libdir codelink_1.68.0.tar.gz StartedAt: 2023-10-16 08:36:48 -0400 (Mon, 16 Oct 2023) EndedAt: 2023-10-16 08:37:15 -0400 (Mon, 16 Oct 2023) EllapsedTime: 27.2 seconds RetCode: 0 Status: OK PackageFile: codelink_1.68.0.zip PackageFileSize: 3.579 MiB