Package: coRdon Version: 1.18.0 Command: F:\biocbuild\bbs-3.17-bioc\R\bin\R.exe CMD INSTALL coRdon StartedAt: 2023-10-15 16:00:21 -0400 (Sun, 15 Oct 2023) EndedAt: 2023-10-15 16:00:49 -0400 (Sun, 15 Oct 2023) EllapsedTime: 27.3 seconds RetCode: 0 Status: OK